BEGIN:VCALENDAR
VERSION:2.0
PRODID:-//wp-events-plugin.com//7.0.4//EN
BEGIN:VEVENT
UID:25@familyservices1.org
DTSTART:20251022T180000Z
DTEND:20251022T193000Z
DTSTAMP:20251001T202112Z
URL:https://familyservices1.org/events/candlelight-vigil-honor-domestic-as
 sault-victims-and-survivors/
SUMMARY:Candlelight Vigil Honor Domestic Assault Victims and Survivors
DESCRIPTION:This gathering is a time to come together as a community—list
 ening to survivors share their powerful stories\, honoring those we have l
 ost\, and standing in solidarity with those still healing. Together\, we w
 ill draw strength from one another\, raise awareness\, and reaffirm our co
 mmitment to breaking the cycle of violence.
ATTACH;FMTTYPE=image/jpeg:https://familyservices1.org/wp-content/uploads/2
 025/10/2025-Candlelight-Vigil-Event-.jpg
LOCATION:Harry C Moore Pavilion\, 1240 S Riverside Dr\, Beloit\, Wisconsin\
 , 53511\, United States
X-APPLE-STRUCTURED-LOCATION;VALUE=URI;X-ADDRESS=1240 S Riverside Dr\, Beloi
 t\, Wisconsin\, 53511\, United States;X-APPLE-RADIUS=100;X-TITLE=Harry C M
 oore Pavilion:geo:0,0
END:VEVENT
END:VCALENDAR